BEGIN:VCALENDAR
VERSION:2.0
PRODID:icalendar-ruby
CALSCALE:GREGORIAN
METHOD:PUBLISH
BEGIN:VEVENT
DTSTAMP:20260425T165313Z
UID:ffbe788b-058e-47fc-afce-10c7fd58b47a
DTSTART;VALUE=DATE:20240927
DTEND;VALUE=DATE:20240927
DESCRIPTION:Desoto BMX
LOCATION:Grimes Park 500 E. Centre Park Blvd Desoto TX 75115 USA
SUMMARY:Local Race Single
URL:/site/bmx_races/547197
END:VEVENT
END:VCALENDAR
