BEGIN:VCALENDAR
VERSION:2.0
PRODID:icalendar-ruby
CALSCALE:GREGORIAN
METHOD:PUBLISH
BEGIN:VEVENT
DTSTAMP:20260425T165408Z
UID:589e25a6-b615-480d-9764-99860cf4c9b0
DTSTART;VALUE=DATE:20240906
DTEND;VALUE=DATE:20240906
DESCRIPTION:Desoto BMX
LOCATION:Grimes Park 500 E. Centre Park Blvd Desoto TX 75115 USA
SUMMARY:Local Race Single
URL:/site/bmx_races/547194
END:VEVENT
END:VCALENDAR
