BEGIN:VCALENDAR
VERSION:2.0
PRODID:icalendar-ruby
CALSCALE:GREGORIAN
METHOD:PUBLISH
BEGIN:VEVENT
DTSTAMP:20260425T183015Z
UID:ef250df9-65fb-4adb-83d5-a5d36c8d409c
DTSTART;VALUE=DATE:20240809
DTEND;VALUE=DATE:20240809
DESCRIPTION:Desoto BMX
LOCATION:Grimes Park 500 E. Centre Park Blvd Desoto TX 75115 USA
SUMMARY:Local Race Single
URL:/site/bmx_races/547190
END:VEVENT
END:VCALENDAR
