BEGIN:VCALENDAR
VERSION:2.0
PRODID:icalendar-ruby
CALSCALE:GREGORIAN
METHOD:PUBLISH
BEGIN:VEVENT
DTSTAMP:20260425T183047Z
UID:d86efa2d-30aa-445e-822d-2c969d1a2981
DTSTART;VALUE=DATE:20240802
DTEND;VALUE=DATE:20240802
DESCRIPTION:Desoto BMX
LOCATION:Grimes Park 500 E. Centre Park Blvd Desoto TX 75115 USA
SUMMARY:Local Race Single
URL:/site/bmx_races/547189
END:VEVENT
END:VCALENDAR
