BEGIN:VCALENDAR
VERSION:2.0
PRODID:icalendar-ruby
CALSCALE:GREGORIAN
METHOD:PUBLISH
BEGIN:VEVENT
DTSTAMP:20260425T183140Z
UID:45d560b6-f494-4ffe-9737-ec50c79a080e
DTSTART;VALUE=DATE:20240826
DTEND;VALUE=DATE:20240826
DESCRIPTION:Desoto BMX
LOCATION:Grimes Park 500 E. Centre Park Blvd Desoto TX 75115 USA
SUMMARY:Practice
URL:/site/bmx_races/547086
END:VEVENT
END:VCALENDAR
