BEGIN:VCALENDAR
VERSION:2.0
PRODID:icalendar-ruby
CALSCALE:GREGORIAN
METHOD:PUBLISH
BEGIN:VEVENT
DTSTAMP:20260425T183226Z
UID:d36e22ca-2a06-4ebe-89cf-c29e1032a9e1
DTSTART;VALUE=DATE:20240807
DTEND;VALUE=DATE:20240807
DESCRIPTION:Desoto BMX
LOCATION:Grimes Park 500 E. Centre Park Blvd Desoto TX 75115 USA
SUMMARY:Practice
URL:/site/bmx_races/547081
END:VEVENT
END:VCALENDAR
