BEGIN:VCALENDAR
VERSION:2.0
PRODID:icalendar-ruby
CALSCALE:GREGORIAN
METHOD:PUBLISH
BEGIN:VEVENT
DTSTAMP:20260425T231610Z
UID:c8d6c23e-db81-4914-b303-5372cd0e8a87
DTSTART;VALUE=DATE:20240522
DTEND;VALUE=DATE:20240522
DESCRIPTION:Desoto BMX
LOCATION:Grimes Park 500 E. Centre Park Blvd Desoto TX 75115 USA
SUMMARY:Practice
URL:/site/bmx_races/547059
END:VEVENT
END:VCALENDAR
