BEGIN:VCALENDAR
VERSION:2.0
PRODID:icalendar-ruby
CALSCALE:GREGORIAN
METHOD:PUBLISH
BEGIN:VEVENT
DTSTAMP:20260426T023336Z
UID:7a894bd9-7331-4768-94fb-1af7cfa26302
DTSTART;VALUE=DATE:20240306
DTEND;VALUE=DATE:20240306
DESCRIPTION:Desoto BMX
LOCATION:Grimes Park 500 E. Centre Park Blvd Desoto TX 75115 USA
SUMMARY:Practice
URL:/site/bmx_races/547037
END:VEVENT
END:VCALENDAR
