BEGIN:VCALENDAR
VERSION:2.0
PRODID:icalendar-ruby
CALSCALE:GREGORIAN
METHOD:PUBLISH
BEGIN:VEVENT
DTSTAMP:20260426T040010Z
UID:ca763dde-3ead-4466-9dad-191419a77b29
DTSTART;VALUE=DATE:20240226
DTEND;VALUE=DATE:20240226
DESCRIPTION:Desoto BMX
LOCATION:Grimes Park 500 E. Centre Park Blvd Desoto TX 75115 USA
SUMMARY:Practice
URL:/site/bmx_races/547034
END:VEVENT
END:VCALENDAR
