BEGIN:VCALENDAR
VERSION:2.0
PRODID:icalendar-ruby
CALSCALE:GREGORIAN
METHOD:PUBLISH
BEGIN:VEVENT
DTSTAMP:20260425T165230Z
UID:02f6b27c-8208-41a2-b485-683657e9c8ca
DTSTART;VALUE=DATE:20240904
DTEND;VALUE=DATE:20240904
DESCRIPTION:Winnebagoland BMX
LOCATION:4650 Jackson Street  Oshkosh WI 54901 USA
SUMMARY:Local Race Single
URL:/site/bmx_races/546882
END:VEVENT
END:VCALENDAR
