BEGIN:VCALENDAR
VERSION:2.0
PRODID:icalendar-ruby
CALSCALE:GREGORIAN
METHOD:PUBLISH
BEGIN:VEVENT
DTSTAMP:20260425T215257Z
UID:3d1874b8-b12b-45c3-a4a8-b1be51fd32d5
DTSTART;VALUE=DATE:20240713
DTEND;VALUE=DATE:20240713
DESCRIPTION:Winnebagoland BMX
LOCATION:4650 Jackson Street  Oshkosh WI 54901 USA
SUMMARY:Local Race Single
URL:/site/bmx_races/546861
END:VEVENT
END:VCALENDAR
