BEGIN:VCALENDAR
VERSION:2.0
PRODID:icalendar-ruby
CALSCALE:GREGORIAN
METHOD:PUBLISH
BEGIN:VEVENT
DTSTAMP:20260425T152649Z
UID:5ab74f8b-808b-407b-bb41-98da07946067
DTSTART;VALUE=DATE:20240807
DTEND;VALUE=DATE:20240807
DESCRIPTION:Speedway BMX
LOCATION:5639 Benore  Toledo OH 43612 USA
SUMMARY:Local Race Single
URL:/site/bmx_races/546527
END:VEVENT
END:VCALENDAR
