BEGIN:VCALENDAR
VERSION:2.0
PRODID:icalendar-ruby
CALSCALE:GREGORIAN
METHOD:PUBLISH
BEGIN:VEVENT
DTSTAMP:20260424T215304Z
UID:cd55a14b-78f1-4aab-a65d-48cb77cb6fe4
DTSTART;VALUE=DATE:20131013
DTEND;VALUE=DATE:20131013
DESCRIPTION:Carson City BMX
LOCATION:1555 Livermore Ln  Carson City NV 89721 USA
SUMMARY:Local Race Single
URL:/site/bmx_races/54592
END:VEVENT
END:VCALENDAR
