BEGIN:VCALENDAR
VERSION:2.0
PRODID:icalendar-ruby
CALSCALE:GREGORIAN
METHOD:PUBLISH
BEGIN:VEVENT
DTSTAMP:20260425T183145Z
UID:957641fd-9d8c-482b-a2ea-aee4548748fd
DTSTART;VALUE=DATE:20240923
DTEND;VALUE=DATE:20240923
DESCRIPTION:Nellis BMX
LOCATION:4949 E Cheyenne Ave  Las Vegas NV 89115 USA
SUMMARY:Practice
URL:/site/bmx_races/545269
END:VEVENT
END:VCALENDAR
