BEGIN:VCALENDAR
VERSION:2.0
PRODID:icalendar-ruby
CALSCALE:GREGORIAN
METHOD:PUBLISH
BEGIN:VEVENT
DTSTAMP:20260425T215135Z
UID:afd2d2d1-5541-4eb8-a28b-5553b3eda71b
DTSTART;VALUE=DATE:20240708
DTEND;VALUE=DATE:20240708
DESCRIPTION:Nellis BMX
LOCATION:4949 E Cheyenne Ave  Las Vegas NV 89115 USA
SUMMARY:Practice
URL:/site/bmx_races/545236
END:VEVENT
END:VCALENDAR
