BEGIN:VCALENDAR
VERSION:2.0
PRODID:icalendar-ruby
CALSCALE:GREGORIAN
METHOD:PUBLISH
BEGIN:VEVENT
DTSTAMP:20260426T023144Z
UID:d1ee892d-f502-468d-8556-97c1af32184e
DTSTART;VALUE=DATE:20240424
DTEND;VALUE=DATE:20240424
DESCRIPTION:Nellis BMX
LOCATION:4949 E Cheyenne Ave  Las Vegas NV 89115 USA
SUMMARY:Local Race Single
URL:/site/bmx_races/545204
END:VEVENT
END:VCALENDAR
