BEGIN:VCALENDAR
VERSION:2.0
PRODID:icalendar-ruby
CALSCALE:GREGORIAN
METHOD:PUBLISH
BEGIN:VEVENT
DTSTAMP:20260426T035944Z
UID:1a92e139-4eab-483f-9d05-61a9f0121ba2
DTSTART;VALUE=DATE:20240306
DTEND;VALUE=DATE:20240306
DESCRIPTION:Nellis BMX
LOCATION:4949 E Cheyenne Ave  Las Vegas NV 89115 USA
SUMMARY:Local Race Single
URL:/site/bmx_races/545183
END:VEVENT
END:VCALENDAR
