BEGIN:VCALENDAR
VERSION:2.0
PRODID:icalendar-ruby
CALSCALE:GREGORIAN
METHOD:PUBLISH
BEGIN:VEVENT
DTSTAMP:20260425T215345Z
UID:b7d10713-450c-4a53-98a3-d6ec502b0f11
DTSTART;VALUE=DATE:20240730
DTEND;VALUE=DATE:20240730
DESCRIPTION:Buffalo Creek BMX
LOCATION:1017 9th Street  Glencoe MN 55336 USA
SUMMARY:Local Race Single
URL:/site/bmx_races/544660
END:VEVENT
END:VCALENDAR
