BEGIN:VCALENDAR
VERSION:2.0
PRODID:icalendar-ruby
CALSCALE:GREGORIAN
METHOD:PUBLISH
BEGIN:VEVENT
DTSTAMP:20260425T151343Z
UID:ea73bb55-5d4f-4444-b721-77737f92177b
DTSTART;VALUE=DATE:20241126
DTEND;VALUE=DATE:20241126
DESCRIPTION:Whitney Mesa BMX
LOCATION:1575 Galleria Dr  Henderson NV 89014 USA
SUMMARY:Practice
URL:/site/bmx_races/544460
END:VEVENT
END:VCALENDAR
