BEGIN:VCALENDAR
VERSION:2.0
PRODID:icalendar-ruby
CALSCALE:GREGORIAN
METHOD:PUBLISH
BEGIN:VEVENT
DTSTAMP:20260425T231517Z
UID:d3022dda-d075-4e45-a8e2-96d0bb468066
DTSTART;VALUE=DATE:20240625
DTEND;VALUE=DATE:20240625
DESCRIPTION:Whitney Mesa BMX
LOCATION:1575 Galleria Dr  Henderson NV 89014 USA
SUMMARY:Practice
URL:/site/bmx_races/544438
END:VEVENT
END:VCALENDAR
