BEGIN:VCALENDAR
VERSION:2.0
PRODID:icalendar-ruby
CALSCALE:GREGORIAN
METHOD:PUBLISH
BEGIN:VEVENT
DTSTAMP:20260426T023233Z
UID:3b5cc79d-41cc-4e73-9e09-c3d4e79eafa4
DTSTART;VALUE=DATE:20240402
DTEND;VALUE=DATE:20240402
DESCRIPTION:Whitney Mesa BMX
LOCATION:1575 Galleria Dr  Henderson NV 89014 USA
SUMMARY:Practice
URL:/site/bmx_races/544426
END:VEVENT
END:VCALENDAR
