BEGIN:VCALENDAR
VERSION:2.0
PRODID:icalendar-ruby
CALSCALE:GREGORIAN
METHOD:PUBLISH
BEGIN:VEVENT
DTSTAMP:20260426T040002Z
UID:7f32d11a-cebc-4bb8-947d-b9638daa6d3a
DTSTART;VALUE=DATE:20240924
DTEND;VALUE=DATE:20240924
DESCRIPTION:Spreckels Park BMX
LOCATION:941 Spreckels Ave  Manteca CA 95336 USA
SUMMARY:Practice
URL:/site/bmx_races/544219
END:VEVENT
END:VCALENDAR
