BEGIN:VCALENDAR
VERSION:2.0
PRODID:icalendar-ruby
CALSCALE:GREGORIAN
METHOD:PUBLISH
BEGIN:VEVENT
DTSTAMP:20260426T023341Z
UID:4a66b781-2c0b-4e68-865a-dcf6e449d9ea
DTSTART;VALUE=DATE:20240511
DTEND;VALUE=DATE:20240511
DESCRIPTION:Whitney Mesa BMX
LOCATION:1575 Galleria Dr  Henderson NV 89014 USA
SUMMARY:Local Race Single
URL:/site/bmx_races/544167
END:VEVENT
END:VCALENDAR
