BEGIN:VCALENDAR
VERSION:2.0
PRODID:icalendar-ruby
CALSCALE:GREGORIAN
METHOD:PUBLISH
BEGIN:VEVENT
DTSTAMP:20260426T005856Z
UID:986e3337-fcf7-44a9-8b43-13d8aab14078
DTSTART;VALUE=DATE:20241124
DTEND;VALUE=DATE:20241124
DESCRIPTION:Spreckels Park BMX
LOCATION:941 Spreckels Ave  Manteca CA 95336 USA
SUMMARY:Local Race Single
URL:/site/bmx_races/544147
END:VEVENT
END:VCALENDAR
