BEGIN:VCALENDAR
VERSION:2.0
PRODID:icalendar-ruby
CALSCALE:GREGORIAN
METHOD:PUBLISH
BEGIN:VEVENT
DTSTAMP:20260425T231640Z
UID:b45a1a7a-5994-4201-823f-2d0cce170778
DTSTART;VALUE=DATE:20241103
DTEND;VALUE=DATE:20241103
DESCRIPTION:Spreckels Park BMX
LOCATION:941 Spreckels Ave  Manteca CA 95336 USA
SUMMARY:Local Race Single
URL:/site/bmx_races/544144
END:VEVENT
END:VCALENDAR
