BEGIN:VCALENDAR
VERSION:2.0
PRODID:icalendar-ruby
CALSCALE:GREGORIAN
METHOD:PUBLISH
BEGIN:VEVENT
DTSTAMP:20260426T023343Z
UID:29e3ca3e-fb31-49ff-b992-8e2be6e1f87f
DTSTART;VALUE=DATE:20240901
DTEND;VALUE=DATE:20240901
DESCRIPTION:Spreckels Park BMX
LOCATION:941 Spreckels Ave  Manteca CA 95336 USA
SUMMARY:Local Race Single
URL:/site/bmx_races/544135
END:VEVENT
END:VCALENDAR
