BEGIN:VCALENDAR
VERSION:2.0
PRODID:icalendar-ruby
CALSCALE:GREGORIAN
METHOD:PUBLISH
BEGIN:VEVENT
DTSTAMP:20260425T152650Z
UID:386d3b5c-bdd2-4379-b108-d2a1e0a796a3
DTSTART;VALUE=DATE:20241111
DTEND;VALUE=DATE:20241111
DESCRIPTION:Whitney Mesa BMX
LOCATION:1575 Galleria Dr  Henderson NV 89014 USA
SUMMARY:Practice
URL:/site/bmx_races/544092
END:VEVENT
END:VCALENDAR
