BEGIN:VCALENDAR
VERSION:2.0
PRODID:icalendar-ruby
CALSCALE:GREGORIAN
METHOD:PUBLISH
BEGIN:VEVENT
DTSTAMP:20260425T165347Z
UID:0819b29f-f0e2-4c41-bcb1-0ce24898a9a2
DTSTART;VALUE=DATE:20240902
DTEND;VALUE=DATE:20240902
DESCRIPTION:Whitney Mesa BMX
LOCATION:1575 Galleria Dr  Henderson NV 89014 USA
SUMMARY:Practice
URL:/site/bmx_races/544082
END:VEVENT
END:VCALENDAR
