BEGIN:VCALENDAR
VERSION:2.0
PRODID:icalendar-ruby
CALSCALE:GREGORIAN
METHOD:PUBLISH
BEGIN:VEVENT
DTSTAMP:20260425T200111Z
UID:7f1185f3-19c3-461c-a99a-346a65574104
DTSTART;VALUE=DATE:20240819
DTEND;VALUE=DATE:20240819
DESCRIPTION:Whitney Mesa BMX
LOCATION:1575 Galleria Dr  Henderson NV 89014 USA
SUMMARY:Practice
URL:/site/bmx_races/544080
END:VEVENT
END:VCALENDAR
