BEGIN:VCALENDAR
VERSION:2.0
PRODID:icalendar-ruby
CALSCALE:GREGORIAN
METHOD:PUBLISH
BEGIN:VEVENT
DTSTAMP:20260424T221800Z
UID:18d5b83b-28ef-4078-84e3-6c1af8670914
DTSTART;VALUE=DATE:20241110
DTEND;VALUE=DATE:20241110
DESCRIPTION:Rusty Bowl BMX
LOCATION:1281 E Gobbi St  Ukiah CA 95482 USA
SUMMARY:Local Race Single
URL:/site/bmx_races/543932
END:VEVENT
END:VCALENDAR
