BEGIN:VCALENDAR
VERSION:2.0
PRODID:icalendar-ruby
CALSCALE:GREGORIAN
METHOD:PUBLISH
BEGIN:VEVENT
DTSTAMP:20260425T030641Z
UID:e309a0b9-ba2c-481c-a30d-3624bffeab53
DTSTART;VALUE=DATE:20240825
DTEND;VALUE=DATE:20240825
DESCRIPTION:Rusty Bowl BMX
LOCATION:1281 E Gobbi St  Ukiah CA 95482 USA
SUMMARY:Local Race Single
URL:/site/bmx_races/543921
END:VEVENT
END:VCALENDAR
