BEGIN:VCALENDAR
VERSION:2.0
PRODID:icalendar-ruby
CALSCALE:GREGORIAN
METHOD:PUBLISH
BEGIN:VEVENT
DTSTAMP:20260424T234811Z
UID:a0d5d675-d9b6-47aa-981a-4e5e429c1316
DTSTART;VALUE=DATE:20241025
DTEND;VALUE=DATE:20241025
DESCRIPTION:Rusty Bowl BMX
LOCATION:1281 E Gobbi St  Ukiah CA 95482 USA
SUMMARY:Local Race Single
URL:/site/bmx_races/543878
END:VEVENT
END:VCALENDAR
