BEGIN:VCALENDAR
VERSION:2.0
PRODID:icalendar-ruby
CALSCALE:GREGORIAN
METHOD:PUBLISH
BEGIN:VEVENT
DTSTAMP:20260425T011614Z
UID:ddbf99d0-9683-4461-9a76-8083627be2ea
DTSTART;VALUE=DATE:20240911
DTEND;VALUE=DATE:20240911
DESCRIPTION:Rusty Bowl BMX
LOCATION:1281 E Gobbi St  Ukiah CA 95482 USA
SUMMARY:Practice
URL:/site/bmx_races/543820
END:VEVENT
END:VCALENDAR
