BEGIN:VCALENDAR
VERSION:2.0
PRODID:icalendar-ruby
CALSCALE:GREGORIAN
METHOD:PUBLISH
BEGIN:VEVENT
DTSTAMP:20260425T152716Z
UID:71ce83b3-3125-4f5a-808b-3ac50dfd8eb7
DTSTART;VALUE=DATE:20241011
DTEND;VALUE=DATE:20241011
DESCRIPTION:Park City BMX
LOCATION:6801 N Hydraulic  Park City KS 67219 USA
SUMMARY:Local Race Single
URL:/site/bmx_races/543180
END:VEVENT
END:VCALENDAR
