BEGIN:VCALENDAR
VERSION:2.0
PRODID:icalendar-ruby
CALSCALE:GREGORIAN
METHOD:PUBLISH
BEGIN:VEVENT
DTSTAMP:20260425T110914Z
UID:28489224-7bf0-4d5b-a4e7-ce86938231f9
DTSTART;VALUE=DATE:20241009
DTEND;VALUE=DATE:20241009
DESCRIPTION:Northern Virginia (NOVA) BMX
LOCATION:7 County Complex Court  Woodbridge VA 22192 USA
SUMMARY:Local Race Single
URL:/site/bmx_races/543136
END:VEVENT
END:VCALENDAR
