BEGIN:VCALENDAR
VERSION:2.0
PRODID:icalendar-ruby
CALSCALE:GREGORIAN
METHOD:PUBLISH
BEGIN:VEVENT
DTSTAMP:20260425T165349Z
UID:0c8a6420-c64f-43e1-a4b6-a77e01391204
DTSTART;VALUE=DATE:20240903
DTEND;VALUE=DATE:20240903
DESCRIPTION:Park City BMX
LOCATION:6801 N Hydraulic  Park City KS 67219 USA
SUMMARY:Practice
URL:/site/bmx_races/543083
END:VEVENT
END:VCALENDAR
