BEGIN:VCALENDAR
VERSION:2.0
PRODID:icalendar-ruby
CALSCALE:GREGORIAN
METHOD:PUBLISH
BEGIN:VEVENT
DTSTAMP:20260426T005819Z
UID:e7a9e202-1fde-45a8-becb-392af759e5cf
DTSTART;VALUE=DATE:20240409
DTEND;VALUE=DATE:20240409
DESCRIPTION:Park City BMX
LOCATION:6801 N Hydraulic  Park City KS 67219 USA
SUMMARY:Practice
URL:/site/bmx_races/543062
END:VEVENT
END:VCALENDAR
