BEGIN:VCALENDAR
VERSION:2.0
PRODID:icalendar-ruby
CALSCALE:GREGORIAN
METHOD:PUBLISH
BEGIN:VEVENT
DTSTAMP:20260425T202145Z
UID:7a2818ac-3e8f-4673-86b1-ed8c6ee1ca64
DTSTART;VALUE=DATE:20241007
DTEND;VALUE=DATE:20241007
DESCRIPTION:Sports Park BMX
LOCATION:6901 N Casa Grande Highway  Tucson AZ 85743 USA
SUMMARY:Local Race Single
URL:/site/bmx_races/543028
END:VEVENT
END:VCALENDAR
