BEGIN:VCALENDAR
VERSION:2.0
PRODID:icalendar-ruby
CALSCALE:GREGORIAN
METHOD:PUBLISH
BEGIN:VEVENT
DTSTAMP:20260425T152651Z
UID:38c80604-0fe9-4184-b7a1-1d9a0740d023
DTSTART;VALUE=DATE:20240729
DTEND;VALUE=DATE:20240729
DESCRIPTION:Northern Virginia (NOVA) BMX
LOCATION:7 County Complex Court  Woodbridge VA 22192 USA
SUMMARY:Practice
URL:/site/bmx_races/542935
END:VEVENT
END:VCALENDAR
