BEGIN:VCALENDAR
VERSION:2.0
PRODID:icalendar-ruby
CALSCALE:GREGORIAN
METHOD:PUBLISH
BEGIN:VEVENT
DTSTAMP:20260426T023257Z
UID:218f013d-86e3-48f3-a2a0-2366eb33b442
DTSTART;VALUE=DATE:20240702
DTEND;VALUE=DATE:20240702
DESCRIPTION:Cobb County BMX
LOCATION:3820 Macedonia Rd  Powder Springs GA 30127 USA
SUMMARY:Local Race Single
URL:/site/bmx_races/542383
END:VEVENT
END:VCALENDAR
