BEGIN:VCALENDAR
VERSION:2.0
PRODID:icalendar-ruby
CALSCALE:GREGORIAN
METHOD:PUBLISH
BEGIN:VEVENT
DTSTAMP:20260426T040111Z
UID:1cb07789-4d80-4625-8c75-689b510439b5
DTSTART;VALUE=DATE:20240618
DTEND;VALUE=DATE:20240618
DESCRIPTION:Cobb County BMX
LOCATION:3820 Macedonia Rd  Powder Springs GA 30127 USA
SUMMARY:Local Race Single
URL:/site/bmx_races/541913
END:VEVENT
END:VCALENDAR
