BEGIN:VCALENDAR
VERSION:2.0
PRODID:icalendar-ruby
CALSCALE:GREGORIAN
METHOD:PUBLISH
BEGIN:VEVENT
DTSTAMP:20260426T031259Z
UID:faca1aa9-edae-4ef4-85b2-968f00a2b286
DTSTART;VALUE=DATE:20231111
DTEND;VALUE=DATE:20231111
DESCRIPTION:Woodland BMX
LOCATION:880 Victory Hwy  West Greenwich RI 02817 USA
SUMMARY:Local Race Single
URL:/site/bmx_races/541322
END:VEVENT
END:VCALENDAR
