BEGIN:VCALENDAR
VERSION:2.0
PRODID:icalendar-ruby
CALSCALE:GREGORIAN
METHOD:PUBLISH
BEGIN:VEVENT
DTSTAMP:20260424T215410Z
UID:d084e550-3c8f-4ce0-9bd5-b24496f3e61e
DTSTART;VALUE=DATE:20231206
DTEND;VALUE=DATE:20231206
DESCRIPTION:Rock Island Indoor BMX
LOCATION:2621 4th Ave  Rock Island IL 61201 USA
SUMMARY:Local Race Single
URL:/site/bmx_races/541223
END:VEVENT
END:VCALENDAR
