BEGIN:VCALENDAR
VERSION:2.0
PRODID:icalendar-ruby
CALSCALE:GREGORIAN
METHOD:PUBLISH
BEGIN:VEVENT
DTSTAMP:20260425T232026Z
UID:c4619b16-e5eb-4be3-a813-5f11e018a8e7
DTSTART;VALUE=DATE:20240217
DTEND;VALUE=DATE:20240217
DESCRIPTION:Circle City BMX
LOCATION:Westgate Park    100 Recreation Rd Dothan AL 36305 USA
SUMMARY:State Race Double
URL:/site/bmx_races/540963
END:VEVENT
END:VCALENDAR
