BEGIN:VCALENDAR
VERSION:2.0
PRODID:icalendar-ruby
CALSCALE:GREGORIAN
METHOD:PUBLISH
BEGIN:VEVENT
DTSTAMP:20260426T035955Z
UID:52f3b8f1-93cf-45e8-ab27-5424f9dd2068
DTSTART;VALUE=DATE:20231106
DTEND;VALUE=DATE:20231106
DESCRIPTION:Northern Virginia (NOVA) BMX
LOCATION:7 County Complex Court  Woodbridge VA 22192 USA
SUMMARY:Track Rental
URL:/site/bmx_races/540814
END:VEVENT
END:VCALENDAR
