BEGIN:VCALENDAR
VERSION:2.0
PRODID:icalendar-ruby
CALSCALE:GREGORIAN
METHOD:PUBLISH
BEGIN:VEVENT
DTSTAMP:20260424T084428Z
UID:0047add0-0bd9-48e0-8f3d-d7b06d2956df
DTSTART;VALUE=DATE:20231024
DTEND;VALUE=DATE:20231024
DESCRIPTION:Gretna BMX Raceway
LOCATION:800 Gretna Blvd  Gretna LA 70053 USA
SUMMARY:Local Race Single
URL:/site/bmx_races/540807
END:VEVENT
END:VCALENDAR
