BEGIN:VCALENDAR
VERSION:2.0
PRODID:icalendar-ruby
CALSCALE:GREGORIAN
METHOD:PUBLISH
BEGIN:VEVENT
DTSTAMP:20260425T113704Z
UID:f2e4ef94-5bf7-477c-9ec9-b1172cb50407
DTSTART;VALUE=DATE:20231001
DTEND;VALUE=DATE:20231001
DESCRIPTION:Air Time BMX
LOCATION:5051 S Frankwood Ave  Reedley CA 93654 USA
SUMMARY:Local Race Single
URL:/site/bmx_races/540384
END:VEVENT
END:VCALENDAR
