BEGIN:VCALENDAR
VERSION:2.0
PRODID:icalendar-ruby
CALSCALE:GREGORIAN
METHOD:PUBLISH
BEGIN:VEVENT
DTSTAMP:20260425T183013Z
UID:2a5886e8-5e76-4c3d-aa8c-17e6aa632e89
DTSTART;VALUE=DATE:20240609
DTEND;VALUE=DATE:20240609
DESCRIPTION:Akron BMX
LOCATION:800 Derby Downs Drive  Akron OH 44306 USA
SUMMARY:Local Race Single
URL:/site/bmx_races/540197
END:VEVENT
END:VCALENDAR
