BEGIN:VCALENDAR
VERSION:2.0
PRODID:icalendar-ruby
CALSCALE:GREGORIAN
METHOD:PUBLISH
BEGIN:VEVENT
DTSTAMP:20260426T005942Z
UID:cfe09d63-177c-43a1-8bf6-894a6d568d9b
DTSTART;VALUE=DATE:20240203
DTEND;VALUE=DATE:20240203
DESCRIPTION:Southwest Wyoming Indoor BMX
LOCATION:3320 Yellowstone Road  Rock Springs WY 82901 USA
SUMMARY:Local Race Single
URL:/site/bmx_races/539960
END:VEVENT
END:VCALENDAR
