BEGIN:VCALENDAR
VERSION:2.0
PRODID:icalendar-ruby
CALSCALE:GREGORIAN
METHOD:PUBLISH
BEGIN:VEVENT
DTSTAMP:20260426T023342Z
UID:3a04dad4-6d61-4546-b697-9fe6124a2826
DTSTART;VALUE=DATE:20240106
DTEND;VALUE=DATE:20240106
DESCRIPTION:Southwest Wyoming Indoor BMX
LOCATION:3320 Yellowstone Road  Rock Springs WY 82901 USA
SUMMARY:Local Race Single
URL:/site/bmx_races/539957
END:VEVENT
END:VCALENDAR
